{"text_format":"2","workbook":"xlsx","n_sheets":3,"sheets":["Лист2","следующая","1-4 кл"],"not_rendered":{"charts":0,"images":0,"macros":0,"external_links":0,"defined_names":0,"comments":0,"pivot_tables":0},"unopened":[],"bounds":{"document_bytes":16777216,"sheet_cells":100000,"run_cost":"one","rows_first":2000,"rows_last":500,"rows_between":2000,"halvings":0,"cell_chars":16384,"cell_head_chars":4096},"cells_cut":0,"cells_raw":0,"read":"whole","date_system":"1900"}

{"sheet":"Лист2","index":0,"n_rows":0,"n_cols":0,"rows_kept":0,"cut":false,"hidden":false,"merged":[]}

{"sheet":"следующая","index":1,"n_rows":196,"n_cols":12,"rows_kept":196,"cut":false,"hidden":false,"merged":[[0,2,0,4],[0,7,0,10],[1,7,1,10],[23,2,23,3],[42,2,42,3],[61,2,61,3],[80,2,80,3],[99,2,99,3],[118,2,118,3],[137,2,137,3],[156,2,156,3],[175,2,175,3],[194,2,194,3],[195,2,195,4]]}
["Школа",{"$nulls":4},"Утвердил:","должность","Директор"]
[" Меню приготавливаемых блюд",{"$nulls":5},"фамилия"]
["Возрастная категория",null,null,null,"1-4 классы",null,"дата",16,9,2024]
[{"$nulls":7},"день","месяц","год"]
["Неделя","День недели","Прием пищи","Раздел меню","Блюда","Вес блюда, г","Белки","Жиры","Углеводы","Калорийность","№ рецептуры","Цена"]
[1,1,"Завтрак","гор.блюдо","Каша пшенная молочная с маслом сливочным",180,6.89,8.46,31.07,229,189]
[{"$nulls":4},"Сыр (порциями)",15,3.95,3.99,0,52,14]
[null,null,null,"гор.напиток","Какао-напиток на молоке",200,3.86,3.84,14.7,108,415]
[null,null,null,"хлеб","Батон нарезной из муки высшего сорта",25,1.93,0.75,12.53,65,1]
[null,null,null,"фрукты","Фрукты (яблоки)",150,0.4,0.4,9.8,44,403]
[]
[]
[null,null,null,"итого",null,{"$f":"SUM(F6:F12)","v":570},{"$f":"SUM(G6:G12)","v":17.03},17.44,68.1,498,null,{"$f":"SUM(L6:L12)","v":0}]
[{"$f":"A6","v":1},{"$f":"B6","v":1},"Обед","закуска","Овощи свежие порционно ( огурец)",60,0.32,0.04,0.94,22,21]
[null,null,null,"1 блюдо","Суп картофельный с рисом и птицей, сметаной  (5/5)",200,3.44,4.04,17.32,119,101]
[null,null,null,"2 блюдо","Биточки рубленые мясные",90,13.83,11.75,11.28,206,302]
[null,null,null,"гарнир","Пюре картофельное",150,3.33,5.48,22.02,150,335]
[null,null,null,"напиток","Кисель из кураги",200,1.04,0.06,36.56,150,406]
[null,null,null,"хлеб бел.","Батон нарезной из муки высшего сорта",25,1.93,0.75,12.53,65,1]
[null,null,null,"хлеб черн.","Хлеб ржано-пшеничный обогащенный",40,2.64,0.48,15.8,78,2]
[]
[]
[null,null,null,"итого",null,{"$f":"SUM(F14:F22)","v":765},{"$f":"SUM(G14:G22)","v":26.53},22.6,116.45,790,null,{"$f":"SUM(L14:L22)","v":0}]
[{"$f":"A6","v":1},{"$f":"B6","v":1},"Итого за день:",null,null,{"$f":"F13+F23","v":1335},{"$f":"G13+G23","v":43.56},40.04,184.55,1288,null,{"$f":"L13+L23","v":0}]
[1,2,"Завтрак","гор.блюдо"]
[]
[null,null,null,"гор.напиток"]
[null,null,null,"хлеб"]
[null,null,null,"фрукты"]
[]
[]
[null,null,null,"итого",null,{"$f":"SUM(F25:F31)","v":0},{"$f":"SUM(G25:G31)","v":0},0,0,0,null,0]
[{"$f":"A25","v":1},{"$f":"B25","v":2},"Обед","закуска"]
[null,null,null,"1 блюдо"]
[null,null,null,"2 блюдо"]
[null,null,null,"гарнир"]
[null,null,null,"напиток"]
[null,null,null,"хлеб бел."]
[null,null,null,"хлеб черн."]
[]
[]
[null,null,null,"итого",null,{"$f":"SUM(F33:F41)","v":0},{"$f":"SUM(G33:G41)","v":0},0,0,0,null,0]
[{"$f":"A25","v":1},{"$f":"B25","v":2},"Итого за день:",null,null,{"$f":"F32+F42","v":0},{"$f":"G32+G42","v":0},0,0,0,null,0]
[1,3,"Завтрак","гор.блюдо"]
[]
[null,null,null,"гор.напиток"]
[null,null,null,"хлеб"]
[null,null,null,"фрукты"]
[]
[]
[null,null,null,"итого",null,{"$f":"SUM(F44:F50)","v":0},{"$f":"SUM(G44:G50)","v":0},0,0,0,null,0]
[{"$f":"A44","v":1},{"$f":"B44","v":3},"Обед","закуска"]
[null,null,null,"1 блюдо"]
[null,null,null,"2 блюдо"]
[null,null,null,"гарнир"]
[null,null,null,"напиток"]
[null,null,null,"хлеб бел."]
[null,null,null,"хлеб черн."]
[]
[]
[null,null,null,"итого",null,{"$f":"SUM(F52:F60)","v":0},{"$f":"SUM(G52:G60)","v":0},0,0,0,null,0]
[{"$f":"A44","v":1},{"$f":"B44","v":3},"Итого за день:",null,null,{"$f":"F51+F61","v":0},{"$f":"G51+G61","v":0},0,0,0,null,0]
[1,4,"Завтрак","гор.блюдо"]
[]
[null,null,null,"гор.напиток"]
[null,null,null,"хлеб"]
[null,null,null,"фрукты"]
[]
[]
[null,null,null,"итого",null,{"$f":"SUM(F63:F69)","v":0},{"$f":"SUM(G63:G69)","v":0},0,0,0,null,0]
[{"$f":"A63","v":1},{"$f":"B63","v":4},"Обед","закуска"]
[null,null,null,"1 блюдо"]
[null,null,null,"2 блюдо"]
[null,null,null,"гарнир"]
[null,null,null,"напиток"]
[null,null,null,"хлеб бел."]
[null,null,null,"хлеб черн."]
[]
[]
[null,null,null,"итого",null,{"$f":"SUM(F71:F79)","v":0},{"$f":"SUM(G71:G79)","v":0},0,0,0,null,0]
[{"$f":"A63","v":1},{"$f":"B63","v":4},"Итого за день:",null,null,{"$f":"F70+F80","v":0},{"$f":"G70+G80","v":0},0,0,0,null,0]
[1,5,"Завтрак","гор.блюдо"]
[]
[null,null,null,"гор.напиток"]
[null,null,null,"хлеб"]
[null,null,null,"фрукты"]
[]
[]
[null,null,null,"итого",null,{"$f":"SUM(F82:F88)","v":0},{"$f":"SUM(G82:G88)","v":0},0,0,0,null,0]
[{"$f":"A82","v":1},{"$f":"B82","v":5},"Обед","закуска"]
[null,null,null,"1 блюдо"]
[null,null,null,"2 блюдо"]
[null,null,null,"гарнир"]
[null,null,null,"напиток"]
[null,null,null,"хлеб бел."]
[null,null,null,"хлеб черн."]
[]
[]
[null,null,null,"итого",null,{"$f":"SUM(F90:F98)","v":0},{"$f":"SUM(G90:G98)","v":0},0,0,0,null,0]
[{"$f":"A82","v":1},{"$f":"B82","v":5},"Итого за день:",null,null,{"$f":"F89+F99","v":0},{"$f":"G89+G99","v":0},0,0,0,null,0]
[2,1,"Завтрак","гор.блюдо"]
[]
[null,null,null,"гор.напиток"]
[null,null,null,"хлеб"]
[null,null,null,"фрукты"]
[]
[]
[null,null,null,"итого",null,{"$f":"SUM(F101:F107)","v":0},{"$f":"SUM(G101:G107)","v":0},0,0,0,null,{"$f":"SUM(L101:L107)","v":0}]
[{"$f":"A101","v":2},{"$f":"B101","v":1},"Обед","закуска"]
[null,null,null,"1 блюдо"]
[null,null,null,"2 блюдо"]
[null,null,null,"гарнир"]
[null,null,null,"напиток"]
[null,null,null,"хлеб бел."]
[null,null,null,"хлеб черн."]
[]
[]
[null,null,null,"итого",null,{"$f":"SUM(F109:F117)","v":0},{"$f":"SUM(G109:G117)","v":0},0,0,0,null,{"$f":"SUM(L109:L117)","v":0}]
[{"$f":"A101","v":2},{"$f":"B101","v":1},"Итого за день:",null,null,{"$f":"F108+F118","v":0},{"$f":"G108+G118","v":0},0,0,0,null,0]
[2,2,"Завтрак","гор.блюдо"]
[]
[null,null,null,"гор.напиток"]
[null,null,null,"хлеб"]
[null,null,null,"фрукты"]
[]
[]
[null,null,null,"итого",null,{"$f":"SUM(F120:F126)","v":0},{"$f":"SUM(G120:G126)","v":0},0,0,0,null,{"$f":"SUM(L120:L126)","v":0}]
[{"$f":"A120","v":2},{"$f":"B120","v":2},"Обед","закуска"]
[null,null,null,"1 блюдо"]
[null,null,null,"2 блюдо"]
[null,null,null,"гарнир"]
[null,null,null,"напиток"]
[null,null,null,"хлеб бел."]
[null,null,null,"хлеб черн."]
[]
[]
[null,null,null,"итого",null,{"$f":"SUM(F128:F136)","v":0},{"$f":"SUM(G128:G136)","v":0},0,0,0,null,{"$f":"SUM(L128:L136)","v":0}]
[{"$f":"A120","v":2},{"$f":"B120","v":2},"Итого за день:",null,null,{"$f":"F127+F137","v":0},{"$f":"G127+G137","v":0},0,0,0,null,0]
[2,3,"Завтрак","гор.блюдо"]
[]
[null,null,null,"гор.напиток"]
[null,null,null,"хлеб"]
[null,null,null,"фрукты"]
[]
[]
[null,null,null,"итого",null,{"$f":"SUM(F139:F145)","v":0},{"$f":"SUM(G139:G145)","v":0},0,0,0,null,{"$f":"SUM(L139:L145)","v":0}]
[{"$f":"A139","v":2},{"$f":"B139","v":3},"Обед","закуска"]
[null,null,null,"1 блюдо"]
[null,null,null,"2 блюдо"]
[null,null,null,"гарнир"]
[null,null,null,"напиток"]
[null,null,null,"хлеб бел."]
[null,null,null,"хлеб черн."]
[]
[]
[null,null,null,"итого",null,{"$f":"SUM(F147:F155)","v":0},{"$f":"SUM(G147:G155)","v":0},0,0,0,null,{"$f":"SUM(L147:L155)","v":0}]
[{"$f":"A139","v":2},{"$f":"B139","v":3},"Итого за день:",null,null,{"$f":"F146+F156","v":0},{"$f":"G146+G156","v":0},0,0,0,null,0]
[2,4,"Завтрак","гор.блюдо"]
[]
[null,null,null,"гор.напиток"]
[null,null,null,"хлеб"]
[null,null,null,"фрукты"]
[]
[]
[null,null,null,"итого",null,{"$f":"SUM(F158:F164)","v":0},{"$f":"SUM(G158:G164)","v":0},0,0,0,null,{"$f":"SUM(L158:L164)","v":0}]
[{"$f":"A158","v":2},{"$f":"B158","v":4},"Обед","закуска"]
[null,null,null,"1 блюдо"]
[null,null,null,"2 блюдо"]
[null,null,null,"гарнир"]
[null,null,null,"напиток"]
[null,null,null,"хлеб бел."]
[null,null,null,"хлеб черн."]
[]
[]
[null,null,null,"итого",null,{"$f":"SUM(F166:F174)","v":0},{"$f":"SUM(G166:G174)","v":0},0,0,0,null,{"$f":"SUM(L166:L174)","v":0}]
[{"$f":"A158","v":2},{"$f":"B158","v":4},"Итого за день:",null,null,{"$f":"F165+F175","v":0},{"$f":"G165+G175","v":0},0,0,0,null,0]
[2,5,"Завтрак","гор.блюдо"]
[]
[null,null,null,"гор.напиток"]
[null,null,null,"хлеб"]
[null,null,null,"фрукты"]
[]
[]
[null,null,null,"итого",null,{"$f":"SUM(F177:F183)","v":0},{"$f":"SUM(G177:G183)","v":0},0,0,0,null,{"$f":"SUM(L177:L183)","v":0}]
[{"$f":"A177","v":2},{"$f":"B177","v":5},"Обед","закуска"]
[null,null,null,"1 блюдо"]
[null,null,null,"2 блюдо"]
[null,null,null,"гарнир"]
[null,null,null,"напиток"]
[null,null,null,"хлеб бел."]
[null,null,null,"хлеб черн."]
[]
[]
[null,null,null,"итого",null,{"$f":"SUM(F185:F193)","v":0},{"$f":"SUM(G185:G193)","v":0},0,0,0,null,{"$f":"SUM(L185:L193)","v":0}]
[{"$f":"A177","v":2},{"$f":"B177","v":5},"Итого за день:",null,null,{"$f":"F184+F194","v":0},{"$f":"G184+G194","v":0},0,0,0,null,0]
[null,null,"Среднее значение за период:",null,null,{"$f":"(F24+F43+F62+F81+F100+F119+F138+F157+F176+F195)/(IF(F24=0,0,1)+IF(F43=0,0,1)+IF(F62=0,0,1)+IF(F81=0,0,1)+IF(F100=0,0,1)+IF(F119=0,0,1)+IF(F138=0,0,1)+IF(F157=0,0,1)+IF(F176=0,0,1)+IF(F195=0,0,1))","v":1335},{"$f":"(G24+G43+G62+G81+G100+G119+G138+G157+G176+G195)/(IF(G24=0,0,1)+IF(G43=0,0,1)+IF(G62=0,0,1)+IF(G81=0,0,1)+IF(G100=0,0,1)+IF(G119=0,0,1)+IF(G138=0,0,1)+IF(G157=0,0,1)+IF(G176=0,0,1)+IF(G195=0,0,1))","v":43.56},40.04,184.55,1288,null,{"$f":"(L24+L43+L62+L81+L100+L119+L138+L157+L176+L195)/(IF(L24=0,0,1)+IF(L43=0,0,1)+IF(L62=0,0,1)+IF(L81=0,0,1)+IF(L100=0,0,1)+IF(L119=0,0,1)+IF(L138=0,0,1)+IF(L157=0,0,1)+IF(L176=0,0,1)+IF(L195=0,0,1))","v":{"$error":"#DIV/0!"}}]

{"sheet":"1-4 кл","index":2,"n_rows":170,"n_cols":12,"rows_kept":170,"cut":false,"hidden":false,"merged":[[0,2,0,4],[0,7,0,10],[1,7,1,10],[4,2,4,3],[23,2,23,3],[42,2,42,3],[61,2,61,3],[80,2,80,3],[81,2,81,4],[97,2,97,3],[111,2,111,3],[125,2,125,3],[140,2,140,3],[154,2,154,3],[169,2,169,3]]}
["Школа",null,"МБОУ ООШ № 22",null,null,"Утвердил:","должность","Директор"]
[" Типовое меню приготавливаемых блюд",{"$nulls":5},"фамилия","Перминова Людмила Николаевна"]
["Возрастная категория",null,null,null,"1-4 классы",null,"дата",7,10,2024]
[{"$nulls":7},"день","месяц","год"]
[{"$f":"#REF!","v":{"$error":"#REF!"}},{"$f":"#REF!","v":{"$error":"#REF!"}},"Итого за день:",null,null,{"$f":"#REF!+#REF!","v":{"$error":"#REF!"}},{"$f":"#REF!+#REF!","v":{"$error":"#REF!"}},{"$f":"#REF!+#REF!","v":{"$error":"#REF!"}},{"$f":"#REF!+#REF!","v":{"$error":"#REF!"}},{"$f":"#REF!+#REF!","v":{"$error":"#REF!"}},null,{"$f":"#REF!+#REF!","v":{"$error":"#REF!"}}]
[2,2,"Завтрак","гор.блюдо"]
[]
[null,null,null,"гор.напиток"]
[null,null,null,"хлеб"]
[null,null,null,"фрукты"]
[]
[]
[null,null,null,"итого",null,{"$f":"SUM(F6:F12)","v":0},{"$f":"SUM(G6:G12)","v":0},0,0,0,null,{"$f":"SUM(L6:L12)","v":0}]
[{"$f":"A6","v":2},{"$f":"B6","v":2},"Обед","закуска"]
[null,null,null,"1 блюдо"]
[null,null,null,"2 блюдо"]
[null,null,null,"гарнир"]
[null,null,null,"напиток"]
[null,null,null,"хлеб бел."]
[null,null,null,"хлеб черн."]
[]
[]
[null,null,null,"итого",null,{"$f":"SUM(F14:F22)","v":0},{"$f":"SUM(G14:G22)","v":0},0,0,0,null,{"$f":"SUM(L14:L22)","v":0}]
[{"$f":"A6","v":2},{"$f":"B6","v":2},"Итого за день:",null,null,{"$f":"F13+F23","v":0},{"$f":"G13+G23","v":0},{"$f":"H13+H23","v":0},{"$f":"I13+I23","v":0},{"$f":"J13+J23","v":0},null,0]
[2,3,"Завтрак","гор.блюдо"]
[]
[null,null,null,"гор.напиток"]
[null,null,null,"хлеб"]
[null,null,null,"фрукты"]
[]
[]
[null,null,null,"итого",null,{"$f":"SUM(F25:F31)","v":0},{"$f":"SUM(G25:G31)","v":0},0,0,0,null,{"$f":"SUM(L25:L31)","v":0}]
[{"$f":"A25","v":2},{"$f":"B25","v":3},"Обед","закуска"]
[null,null,null,"1 блюдо"]
[null,null,null,"2 блюдо"]
[null,null,null,"гарнир"]
[null,null,null,"напиток"]
[null,null,null,"хлеб бел."]
[null,null,null,"хлеб черн."]
[]
[]
[null,null,null,"итого",null,{"$f":"SUM(F33:F41)","v":0},{"$f":"SUM(G33:G41)","v":0},0,0,0,null,{"$f":"SUM(L33:L41)","v":0}]
[{"$f":"A25","v":2},{"$f":"B25","v":3},"Итого за день:",null,null,{"$f":"F32+F42","v":0},{"$f":"G32+G42","v":0},{"$f":"H32+H42","v":0},{"$f":"I32+I42","v":0},{"$f":"J32+J42","v":0},null,0]
[2,4,"Завтрак","гор.блюдо"]
[]
[null,null,null,"гор.напиток"]
[null,null,null,"хлеб"]
[null,null,null,"фрукты"]
[]
[]
[null,null,null,"итого",null,{"$f":"SUM(F44:F50)","v":0},{"$f":"SUM(G44:G50)","v":0},0,0,0,null,{"$f":"SUM(L44:L50)","v":0}]
[{"$f":"A44","v":2},{"$f":"B44","v":4},"Обед","закуска"]
[null,null,null,"1 блюдо"]
[null,null,null,"2 блюдо"]
[null,null,null,"гарнир"]
[null,null,null,"напиток"]
[null,null,null,"хлеб бел."]
[null,null,null,"хлеб черн."]
[]
[]
[null,null,null,"итого",null,{"$f":"SUM(F52:F60)","v":0},{"$f":"SUM(G52:G60)","v":0},0,0,0,null,{"$f":"SUM(L52:L60)","v":0}]
[{"$f":"A44","v":2},{"$f":"B44","v":4},"Итого за день:",null,null,{"$f":"F51+F61","v":0},{"$f":"G51+G61","v":0},{"$f":"H51+H61","v":0},{"$f":"I51+I61","v":0},{"$f":"J51+J61","v":0},null,0]
[2,5,"Завтрак","гор.блюдо"]
[]
[null,null,null,"гор.напиток"]
[null,null,null,"хлеб"]
[null,null,null,"фрукты"]
[]
[]
[null,null,null,"итого",null,{"$f":"SUM(F63:F69)","v":0},{"$f":"SUM(G63:G69)","v":0},0,0,0,null,{"$f":"SUM(L63:L69)","v":0}]
[{"$f":"A63","v":2},{"$f":"B63","v":5},"Обед","закуска"]
[null,null,null,"1 блюдо"]
[null,null,null,"2 блюдо"]
[null,null,null,"гарнир"]
[null,null,null,"напиток"]
[null,null,null,"хлеб бел."]
[null,null,null,"хлеб черн."]
[]
[]
[null,null,null,"итого",null,{"$f":"SUM(F71:F79)","v":0},{"$f":"SUM(G71:G79)","v":0},0,0,0,null,{"$f":"SUM(L71:L79)","v":0}]
[{"$f":"A63","v":2},{"$f":"B63","v":5},"Итого за день:",null,null,{"$f":"F70+F80","v":0},{"$f":"G70+G80","v":0},{"$f":"H70+H80","v":0},{"$f":"I70+I80","v":0},{"$f":"J70+J80","v":0},null,0]
[null,null,"Среднее значение за период:",null,null,{"$f":"(#REF!+#REF!+#REF!+#REF!+#REF!+F5+F24+F43+F62+F81)/(IF(#REF!=0,0,1)+IF(#REF!=0,0,1)+IF(#REF!=0,0,1)+IF(#REF!=0,0,1)+IF(#REF!=0,0,1)+IF(F5=0,0,1)+IF(F24=0,0,1)+IF(F43=0,0,1)+IF(F62=0,0,1)+IF(F81=0,0,1))","v":{"$error":"#REF!"}},{"$f":"(#REF!+#REF!+#REF!+#REF!+#REF!+G5+G24+G43+G62+G81)/(IF(#REF!=0,0,1)+IF(#REF!=0,0,1)+IF(#REF!=0,0,1)+IF(#REF!=0,0,1)+IF(#REF!=0,0,1)+IF(G5=0,0,1)+IF(G24=0,0,1)+IF(G43=0,0,1)+IF(G62=0,0,1)+IF(G81=0,0,1))","v":{"$error":"#REF!"}},{"$f":"(#REF!+#REF!+#REF!+#REF!+#REF!+H5+H24+H43+H62+H81)/(IF(#REF!=0,0,1)+IF(#REF!=0,0,1)+IF(#REF!=0,0,1)+IF(#REF!=0,0,1)+IF(#REF!=0,0,1)+IF(H5=0,0,1)+IF(H24=0,0,1)+IF(H43=0,0,1)+IF(H62=0,0,1)+IF(H81=0,0,1))","v":{"$error":"#REF!"}},{"$f":"(#REF!+#REF!+#REF!+#REF!+#REF!+I5+I24+I43+I62+I81)/(IF(#REF!=0,0,1)+IF(#REF!=0,0,1)+IF(#REF!=0,0,1)+IF(#REF!=0,0,1)+IF(#REF!=0,0,1)+IF(I5=0,0,1)+IF(I24=0,0,1)+IF(I43=0,0,1)+IF(I62=0,0,1)+IF(I81=0,0,1))","v":{"$error":"#REF!"}},{"$f":"(#REF!+#REF!+#REF!+#REF!+#REF!+J5+J24+J43+J62+J81)/(IF(#REF!=0,0,1)+IF(#REF!=0,0,1)+IF(#REF!=0,0,1)+IF(#REF!=0,0,1)+IF(#REF!=0,0,1)+IF(J5=0,0,1)+IF(J24=0,0,1)+IF(J43=0,0,1)+IF(J62=0,0,1)+IF(J81=0,0,1))","v":{"$error":"#REF!"}},null,{"$f":"(#REF!+#REF!+#REF!+#REF!+#REF!+L5+L24+L43+L62+L81)/(IF(#REF!=0,0,1)+IF(#REF!=0,0,1)+IF(#REF!=0,0,1)+IF(#REF!=0,0,1)+IF(#REF!=0,0,1)+IF(L5=0,0,1)+IF(L24=0,0,1)+IF(L43=0,0,1)+IF(L62=0,0,1)+IF(L81=0,0,1))","v":{"$error":"#REF!"}}]
["Неделя","День недели","Прием пищи","Раздел меню","Блюда","Вес блюда, г","Белки","Жиры","Углеводы","Калорийность","№ рецептуры","Цена"]
[2,1,"Завтрак","гор.блюдо","Каша пшенная молочная с маслом сливочным",180,6.8,7.3,23.5,223,189,25.5]
[{"$nulls":4},"Сыр (порциями)",15,3.95,3.99,0,52,14,14.4]
[null,null,null,"гор.напиток","Какао на молоке",200,3.86,3.84,14.7,108,432,15.5]
[null,null,null,"хлеб","Батон нарезной из муки высшего сорта",25,1.93,0.75,12.53,65,1,2.2]
[null,null,null,"фрукты","Йогурт в индивидуальной упаковке, м.д.ж. 2,5%",125,3.1,2.5,18,107,3,33.4]
[null,null,null,"итого",null,{"$f":"SUM(F84:F88)","v":545},{"$f":"SUM(G84:G88)","v":19.64},{"$f":"SUM(H84:H88)","v":18.38},{"$f":"SUM(I84:I88)","v":68.73},{"$f":"SUM(J84:J88)","v":555},null,{"$f":"SUM(L84:L88)","v":91}]
[{"$f":"A84","v":2},{"$f":"B84","v":1},"Обед","закуска","Овощи свежие порционно ( огурец),масло растительное",60,0.52,4.06,2.57,52,21,13.4]
[null,null,null,"1 блюдо","Суп картофельный с макаронами, сметаной и птицей",210,4.34,5.11,15.88,131,112,19.4]
[null,null,null,"2 блюдо","Фрикадельки тушеные в соусе сметанном",90,10.17,11.14,15.75,162,"288/255",52.3]
[null,null,null,"гарнир","Каша гречневая рассыпчатая",150,4.41,3.36,33.13,176,181,15.9]
[null,null,null,"напиток","Компот из фруктов свежих",200,0.08,0.04,21.1,87,439,11]
[null,null,null,"хлеб бел.","Хлеб пшеничный",25,1.16,0.45,7.52,39,1,2.2]
[null,null,null,"хлеб черн.","Хлеб ржано-пшеничный обагащенный витаминным комплексом",40,2.64,0.48,15.8,78,2,2.8]
[null,null,null,"итого",null,{"$f":"SUM(F90:F96)","v":775},{"$f":"SUM(G90:G96)","v":23.32},{"$f":"SUM(H90:H96)","v":24.64},{"$f":"SUM(I90:I96)","v":111.75},{"$f":"SUM(J90:J96)","v":725},null,{"$f":"SUM(L90:L96)","v":117}]
[{"$f":"A84","v":2},{"$f":"B84","v":1},"Итого за день:",null,null,{"$f":"F89+F97","v":1320},{"$f":"G89+G97","v":42.96},{"$f":"H89+H97","v":43.02},{"$f":"I89+I97","v":180.48},{"$f":"J89+J97","v":1280},null,{"$f":"L89+L97","v":208}]
[2,2,"Завтрак","гор.блюдо","Пудинг из творога, запеченный с изюмом, с молоком сгущенным",170,13.74,14.78,35.9,324,240,47.7]
[null,null,null,"гор.напиток","Чай с лимоном и сахаром",200,0.18,0.04,10.14,42,423,8]
[null,null,null,"хлеб","Батон нарезной из муки высшего сорта",25,1.93,0.75,12.53,65,1,2.2]
[null,null,null,"фрукты","Фрукты  (яблоко)",150,0.2,0.4,8.8,44,403,33.1]
[null,null,null,"итого",null,{"$f":"SUM(F99:F102)","v":545},{"$f":"SUM(G99:G102)","v":16.05},{"$f":"SUM(H99:H102)","v":15.97},{"$f":"SUM(I99:I102)","v":67.37},{"$f":"SUM(J99:J102)","v":475},null,{"$f":"SUM(L99:L102)","v":91}]
[2,{"$f":"B99","v":2},"Обед","закуска","Салат из свеклы с яблоками",60,0.88,3.65,5.17,57,57,10.1]
[null,null,null,"1 блюдо","Суп из овощей с птицей и сметаной",210,3.94,6.13,11.65,103,99,20.1]
[null,null,null,"2 блюдо","Гуляш ",90,12.8,10.02,3.02,156,260,55.6]
[null,null,null,"гарнир","Макаронные изделия отварные",150,2.64,4.8,28,184,331,13.1]
[null,null,null,"напиток","Компот из фруктов свежих",200,0.44,0,29.56,120,402,13.1]
[null,null,null,"хлеб бел.","Хлеб крестьянский ",25,1.16,0.45,7.52,39,1,2.2]
[null,null,null,"хлеб черн.","Хлеб ржано-пшеничный обагащенный витаминным комплексом",40,2.64,0.48,15.8,78,2,2.8]
[null,null,null,"итого",null,{"$f":"SUM(F104:F110)","v":775},{"$f":"SUM(G104:G110)","v":24.5},{"$f":"SUM(H104:H110)","v":25.53},{"$f":"SUM(I104:I110)","v":100.72},{"$f":"SUM(J104:J110)","v":737},null,{"$f":"SUM(L104:L110)","v":117}]
[{"$f":"A99","v":2},{"$f":"B99","v":2},"Итого за день:",null,null,{"$f":"F103+F111","v":1320},{"$f":"G103+G111","v":40.55},{"$f":"H103+H111","v":41.5},{"$f":"I103+I111","v":168.09},{"$f":"J103+J111","v":1212},null,{"$f":"L103+L111","v":208}]
[2,3,"Завтрак","гор.блюдо","Биточек из филе цыпленка",50,7.15,4.16,7.32,113,315,49.4]
[{"$nulls":4},"Рис припущенный  с маслом сливочным",180,8.66,5.6,24.03,178,189,19.3]
[null,null,null,"гор.напиток","Чай с сахаром",200,0.14,0.04,10.02,42,420,6.8]
[{"$nulls":4},"Пряник",50,3.12,6.87,12.97,120,6,13.3]
[null,null,null,"хлеб","Батон нарезной из муки высшего сорта ",25,1.93,0.75,12.53,65,1,2.2]
[null,null,null,"итого",null,{"$f":"SUM(F113:F117)","v":505},{"$f":"SUM(G113:G117)","v":21},{"$f":"SUM(H113:H117)","v":17.42},{"$f":"SUM(I113:I117)","v":66.87},{"$f":"SUM(J113:J117)","v":518},null,{"$f":"SUM(L113:L117)","v":91}]
[2,{"$f":"B113","v":3},"Обед","закуска","Овощи свежие порционно (огурец)",60,0.42,4.3,3.14,52,71,13.4]
[null,null,null,"1 блюдо","Борщ с капустой и картофелем, говядиной и сметаной",210,3.12,5.95,10.1,106,82,22.1]
[null,null,null,"2 блюдо","Жаркое по-домашнему (говядина)",240,15.64,13.5,37.46,344,259,64.3]
[null,null,null,"напиток","Компот из свежих яблок",200,0.16,0.16,27.88,114,394,12.2]
[null,null,null,"хлеб бел.","Хлеб крестьянский ",25,1.16,0.45,7.52,39,1,2.2]
[null,null,null,"хлеб черн.","Хлеб ржано-пшеничный обагащенный витаминным комплексом",40,2.64,0.48,15.8,78,2,2.8]
[null,null,null,"итого",null,{"$f":"SUM(F119:F124)","v":775},{"$f":"SUM(G119:G124)","v":23.14},{"$f":"SUM(H119:H124)","v":24.84},{"$f":"SUM(I119:I124)","v":101.9},{"$f":"SUM(J119:J124)","v":733},null,{"$f":"SUM(L119:L124)","v":117}]
[{"$f":"A113","v":2},{"$f":"B113","v":3},"Итого за день:",null,null,{"$f":"F118+F125","v":1280},{"$f":"G118+G125","v":44.14},{"$f":"H118+H125","v":42.26},{"$f":"I118+I125","v":168.77},{"$f":"J118+J125","v":1251},null,{"$f":"L118+L125","v":208}]
[2,4,"Завтрак","гор.блюдо","Каша гречневая молочная с маслом сливочным",180,8.35,5.68,31.14,245,183,25.5]
[{"$nulls":4},"Сыр порционно",15,3.95,3.99,0,52,14,14.4]
[null,null,null,"гор.напиток","Какао на молоке",200,3.86,3.84,14.7,108,421,15.5]
[null,null,null,"хлеб","Батон нарезной из муки высшего сорта",25,1.93,0.75,12.53,65,1,2.2]
[{"$nulls":4},"Йогурт в индивидуальной упаковке, м.д.ж. 2,5%",125,3.1,2.5,18,107,3,33.4]
[null,null,null,"итого",null,{"$f":"SUM(F127:F131)","v":545},{"$f":"SUM(G127:G131)","v":21.19},{"$f":"SUM(H127:H131)","v":16.76},{"$f":"SUM(I127:I131)","v":76.37},{"$f":"SUM(J127:J131)","v":577},null,{"$f":"SUM(L127:L131)","v":91}]
[2,{"$f":"B127","v":4},"Обед","закуска","Овощи свежие порционно (огурец)",60,0.48,0.06,1.02,9,51,12.1]
[null,null,null,"1 блюдо","Рассольник \"Ленинградский\" с мясом цыпленка, со сметаной",210,3.38,5.06,13.71,134,96,19.4]
[null,null,null,"2 блюдо","Фрикассе из мяса птицы",90,12.8,9.4,16.93,162,331,47.6]
[null,null,null,"гарнир","Рагу овощное",150,2.51,11,28.36,206,287,20.3]
[null,null,null,"напиток","Компот из свежих фруктов",200,0.16,0.16,19,80,394,12.6]
[null,null,null,"хлеб бел.","Хлеб крестьянский ",25,1.16,0.45,7.52,39,1,2.2]
[null,null,null,"хлеб черн.","Хлеб ржано-пшеничный обагащенный витаминным комплексом",40,2.64,0.48,15.8,78,2,2.8]
[null,null,null,"итого",null,{"$f":"SUM(F133:F139)","v":775},{"$f":"SUM(G133:G139)","v":23.13},{"$f":"SUM(H133:H139)","v":26.61},{"$f":"SUM(I133:I139)","v":102.34},{"$f":"SUM(J133:J139)","v":708},null,{"$f":"SUM(L133:L139)","v":117}]
[{"$f":"A127","v":2},{"$f":"B127","v":4},"Итого за день:",null,null,{"$f":"F132+F140","v":1320},{"$f":"G132+G140","v":44.32},{"$f":"H132+H140","v":43.37},{"$f":"I132+I140","v":178.71},{"$f":"J132+J140","v":1285},null,{"$f":"L132+L140","v":208}]
[2,5,"Завтрак","гор.блюдо","Тефтели с соусом",100,10.88,10.32,11.74,171,546,34.9]
[{"$nulls":4},"Макаронные изделия отварные",150,2.64,4.8,28,184,331,12.8]
[null,null,null,"гор.напиток","Чай с лимоном и сахаром",200,0.18,0.04,10.14,42,423,8]
[{"$nulls":4},"Фрукты (мандарин)",130,0.8,0.2,7.5,38,null,33.1]
[null,null,null,"хлеб","Батон нарезной из муки высшего сорта",25,1.93,0.75,12.53,65,1,2.2]
[null,null,null,"итого",null,{"$f":"SUM(F142:F146)","v":605},{"$f":"SUM(G142:G146)","v":16.43},{"$f":"SUM(H142:H146)","v":16.11},{"$f":"SUM(I142:I146)","v":69.91},{"$f":"SUM(J142:J146)","v":500},null,{"$f":"SUM(L142:L146)","v":91}]
[2,{"$f":"B142","v":5},"Обед","закуска","Салат из белокочанной капусты ",60,0.73,4.1,3.9,36,51,13.7]
[null,null,null,"1 блюдо","Суп картофельный с рыбными консервами",200,3.89,6.92,12.38,133,87,19.8]
[null,null,null,"2 блюдо","Плов куриный",240,16.12,11.83,38.95,349,331,63.2]
[null,null,null,"напиток","Напиток из плодов шиповника",200,0.2,0,19,80,484,15.9]
[null,null,null,"хлеб бел.","Хлеб крестьянский ",25,1.93,0.75,12.53,65,1,2.2]
[null,null,null,"хлеб черн.","Хлеб ржано-пшеничный обагащенный витаминными",40,2.64,0.48,15.8,78,2,2.2]
[null,null,null,"итого",null,{"$f":"SUM(F148:F153)","v":765},{"$f":"SUM(G148:G153)","v":25.51},{"$f":"SUM(H148:H153)","v":24.08},{"$f":"SUM(I148:I153)","v":102.56},{"$f":"SUM(J148:J153)","v":741},null,{"$f":"SUM(L148:L153)","v":117}]
[{"$f":"A142","v":2},{"$f":"B142","v":5},"Итого за день:",null,null,{"$f":"F147+F154","v":1370},{"$f":"G147+G154","v":41.94},{"$f":"H147+H154","v":40.19},{"$f":"I147+I154","v":172.47},{"$f":"J147+J154","v":1241},null,{"$f":"L147+L154","v":208}]
[2,6,"Завтрак","гор.блюдо","Каша овсянная молочная с маслом сливочным",180,5.28,8.1,25.32,214,189,27.6]
[null,null,null,"гор.напиток","Чай  с молоком и сахаром",200,1.14,0.84,12.02,56,421,12.7]
[null,null,null,"хлеб","Батон нарезной из муки высшего сорта",25,1.93,0.75,12.53,65,1,2.2]
[null,null,null,"фрукты","Йогурт в индивидуальной упаковке, м.д.ж. 2,5%",125,3.1,2.5,18,107,3,33.1]
[{"$nulls":4},"Бутерброд с сыром",40,5.88,6.14,12.53,117,4,15.4]
[null,null,null,"итого",null,{"$f":"SUM(F156:F160)","v":570},{"$f":"SUM(G156:G160)","v":17.33},{"$f":"SUM(H156:H160)","v":18.33},{"$f":"SUM(I156:I160)","v":80.4},{"$f":"SUM(J156:J160)","v":559},null,{"$f":"SUM(L156:L160)","v":91}]
[{"$f":"A156","v":2},6,"Обед","закуска","Овощи свежие порционно (томат), масло растительное",60,0.73,5.1,4.4,76,51,15.4]
[null,null,null,"1 блюдо","Суп картофельный с горохом, птицей  со сметаной",210,5.36,3.85,15.08,104,102,20.1]
[null,null,null,"2 блюдо","Рыба (филе минтая) тушеная с овощами",90,9.46,6.72,4.83,124,254,26.6]
[null,null,null,"гарнир","Картофель  запеченый ",150,4.35,7.37,35.46,207,133,18.8]
[null,null,null,"напиток","Сок фруктовый",200,0.2,0,19,86,484,31.1]
[null,null,null,"хлеб бел.","Хлеб крестьянский ",25,1.16,0.45,7.52,39,1,2.2]
[null,null,null,"хлеб черн.","Хлеб ржано-пшеничный обагащенный витаминным комплексом",40,2.64,0.48,15.8,78,2,2.8]
[null,null,null,"итого",null,{"$f":"SUM(F162:F168)","v":775},{"$f":"SUM(G162:G168)","v":23.9},{"$f":"SUM(H162:H168)","v":23.97},{"$f":"SUM(I162:I168)","v":102.09},{"$f":"SUM(J162:J168)","v":714},null,{"$f":"SUM(L162:L168)","v":117}]
[{"$f":"A156","v":2},{"$f":"B156","v":6},"Итого за день:",null,null,{"$f":"F161+F169","v":1345},{"$f":"G161+G169","v":41.23},{"$f":"H161+H169","v":42.3},{"$f":"I161+I169","v":182.49},{"$f":"J161+J169","v":1273},null,{"$f":"L161+L169","v":208}]